Package: cnvGSAdata Version: 1.45.0 Command: /home/biocbuild/bbs-3.22-bioc/R/bin/R CMD INSTALL cnvGSAdata StartedAt: 2025-10-16 10:58:28 -0400 (Thu, 16 Oct 2025) EndedAt: 2025-10-16 10:58:34 -0400 (Thu, 16 Oct 2025) EllapsedTime: 6.0 seconds RetCode: 0 Status: OK