Package: cnvGSAdata Version: 1.45.0 Command: /home/biocbuild/bbs-3.22-bioc/R/bin/R CMD build --keep-empty-dirs --no-resave-data cnvGSAdata StartedAt: 2025-10-16 11:10:06 -0400 (Thu, 16 Oct 2025) EndedAt: 2025-10-16 11:10:08 -0400 (Thu, 16 Oct 2025) EllapsedTime: 2.0 seconds RetCode: 0 Status: OK PackageFile: cnvGSAdata_1.45.0.tar.gz PackageFileSize: 6.235 MiB