Package: chromstaRData Version: 1.35.0 Command: /home/biocbuild/bbs-3.22-bioc/R/bin/R CMD build --keep-empty-dirs --no-resave-data chromstaRData StartedAt: 2025-07-22 11:10:27 -0400 (Tue, 22 Jul 2025) EndedAt: 2025-07-22 11:10:37 -0400 (Tue, 22 Jul 2025) EllapsedTime: 10.0 seconds RetCode: 0 Status: OK PackageFile: chromstaRData_1.35.0.tar.gz PackageFileSize: 140.2 MiB