Package: chipenrich.data Version: 2.33.0 Command: /home/biocbuild/bbs-3.22-bioc/R/bin/R CMD INSTALL chipenrich.data StartedAt: 2025-10-02 11:02:06 -0400 (Thu, 02 Oct 2025) EndedAt: 2025-10-02 11:03:59 -0400 (Thu, 02 Oct 2025) EllapsedTime: 113.0 seconds RetCode: 0 Status: OK