Package: chipenrich.data Version: 2.33.0 Command: /home/biocbuild/bbs-3.22-bioc/R/bin/R CMD build --keep-empty-dirs --no-resave-data chipenrich.data StartedAt: 2025-10-02 11:08:39 -0400 (Thu, 02 Oct 2025) EndedAt: 2025-10-02 11:10:42 -0400 (Thu, 02 Oct 2025) EllapsedTime: 123.3 seconds RetCode: 0 Status: OK PackageFile: chipenrich.data_2.33.0.tar.gz PackageFileSize: 106.3 MiB