Package: celldex Version: 1.19.0 Command: /home/biocbuild/bbs-3.22-bioc/R/bin/R CMD INSTALL celldex StartedAt: 2025-07-24 11:03:01 -0400 (Thu, 24 Jul 2025) EndedAt: 2025-07-24 11:03:37 -0400 (Thu, 24 Jul 2025) EllapsedTime: 35.8 seconds RetCode: 0 Status: OK