Package: ccdata Version: 1.35.0 Command: /home/biocbuild/bbs-3.22-bioc/R/bin/R CMD check --install=check:ccdata.install-out.txt --library=/home/biocbuild/bbs-3.22-bioc/R/site-library --timings ccdata_1.35.0.tar.gz StartedAt: 2025-10-16 12:04:18 -0400 (Thu, 16 Oct 2025) EndedAt: 2025-10-16 12:07:46 -0400 (Thu, 16 Oct 2025) EllapsedTime: 207.9 seconds RetCode: 0 Status: WARNINGS CheckDir: ccdata.Rcheck Warnings: 1