Package: ccdata Version: 1.33.0 Command: /home/biocbuild/bbs-3.21-bioc/R/bin/R CMD build --keep-empty-dirs --no-resave-data ccdata StartedAt: 2025-01-30 11:08:36 -0500 (Thu, 30 Jan 2025) EndedAt: 2025-01-30 11:09:29 -0500 (Thu, 30 Jan 2025) EllapsedTime: 52.7 seconds RetCode: 0 Status: OK PackageFile: ccdata_1.33.0.tar.gz PackageFileSize: 893.9 MiB