Package: cMap2data Version: 1.45.0 Command: /home/biocbuild/bbs-3.22-bioc/R/bin/R CMD INSTALL cMap2data StartedAt: 2025-07-17 10:55:15 -0400 (Thu, 17 Jul 2025) EndedAt: 2025-07-17 10:55:25 -0400 (Thu, 17 Jul 2025) EllapsedTime: 10.6 seconds RetCode: 0 Status: OK