Package: bugphyzz Version: 1.3.0 Command: /home/biocbuild/bbs-3.22-bioc/R/bin/R CMD check --install=check:bugphyzz.install-out.txt --library=/home/biocbuild/bbs-3.22-bioc/R/site-library --timings bugphyzz_1.3.0.tar.gz StartedAt: 2025-10-07 12:02:51 -0400 (Tue, 07 Oct 2025) EndedAt: 2025-10-07 12:10:51 -0400 (Tue, 07 Oct 2025) EllapsedTime: 480.2 seconds RetCode: 0 Status: OK CheckDir: bugphyzz.Rcheck Warnings: 0