Package: bsseqData Version: 0.47.0 Command: /home/biocbuild/bbs-3.22-bioc/R/bin/R CMD INSTALL bsseqData StartedAt: 2025-07-17 11:00:55 -0400 (Thu, 17 Jul 2025) EndedAt: 2025-07-17 11:01:46 -0400 (Thu, 17 Jul 2025) EllapsedTime: 50.8 seconds RetCode: 0 Status: OK