Package: breastCancerTRANSBIG Version: 1.45.0 Command: /home/biocbuild/bbs-3.21-bioc/R/bin/R CMD check --install=check:breastCancerTRANSBIG.install-out.txt --library=/home/biocbuild/bbs-3.21-bioc/R/site-library --timings breastCancerTRANSBIG_1.45.0.tar.gz StartedAt: 2025-01-30 11:48:25 -0500 (Thu, 30 Jan 2025) EndedAt: 2025-01-30 11:49:16 -0500 (Thu, 30 Jan 2025) EllapsedTime: 51.2 seconds RetCode: 0 Status: WARNINGS CheckDir: breastCancerTRANSBIG.Rcheck Warnings: 1