Package: breastCancerTRANSBIG Version: 1.45.0 Command: /home/biocbuild/bbs-3.21-bioc/R/bin/R CMD build --keep-empty-dirs --no-resave-data breastCancerTRANSBIG StartedAt: 2025-01-30 11:08:24 -0500 (Thu, 30 Jan 2025) EndedAt: 2025-01-30 11:08:28 -0500 (Thu, 30 Jan 2025) EllapsedTime: 3.6 seconds RetCode: 0 Status: OK PackageFile: breastCancerTRANSBIG_1.45.0.tar.gz PackageFileSize: 34.48 MiB