Package: airway Version: 1.31.0 Command: /home/biocbuild/bbs-3.23-bioc/R/bin/R CMD build --keep-empty-dirs --no-resave-data airway StartedAt: 2025-11-13 11:07:33 -0500 (Thu, 13 Nov 2025) EndedAt: 2025-11-13 11:08:04 -0500 (Thu, 13 Nov 2025) EllapsedTime: 30.4 seconds RetCode: 0 Status: OK PackageFile: airway_1.31.0.tar.gz PackageFileSize: 23.61 MiB