Package: affycompData Version: 1.45.0 Command: /home/biocbuild/bbs-3.21-bioc/R/bin/R CMD INSTALL affycompData StartedAt: 2025-02-18 10:56:19 -0500 (Tue, 18 Feb 2025) EndedAt: 2025-02-18 10:56:25 -0500 (Tue, 18 Feb 2025) EllapsedTime: 6.3 seconds RetCode: 0 Status: OK