Package: adductData Version: 1.25.0 Command: /home/biocbuild/bbs-3.22-bioc/R/bin/R CMD check --install=check:adductData.install-out.txt --library=/home/biocbuild/bbs-3.22-bioc/R/site-library --timings adductData_1.25.0.tar.gz StartedAt: 2025-10-16 12:01:18 -0400 (Thu, 16 Oct 2025) EndedAt: 2025-10-16 12:02:05 -0400 (Thu, 16 Oct 2025) EllapsedTime: 46.9 seconds RetCode: 0 Status: OK CheckDir: adductData.Rcheck Warnings: 0