Package: TumourMethData Version: 1.9.0 Command: /home/biocbuild/bbs-3.23-bioc/R/bin/R CMD INSTALL TumourMethData StartedAt: 2025-11-11 10:58:13 -0500 (Tue, 11 Nov 2025) EndedAt: 2025-11-11 10:58:39 -0500 (Tue, 11 Nov 2025) EllapsedTime: 26.5 seconds RetCode: 0 Status: OK