Package: TumourMethData Version: 1.9.0 Command: /home/biocbuild/bbs-3.23-bioc/R/bin/R CMD build --keep-empty-dirs --no-resave-data TumourMethData StartedAt: 2025-11-11 11:47:28 -0500 (Tue, 11 Nov 2025) EndedAt: 2025-11-11 11:48:12 -0500 (Tue, 11 Nov 2025) EllapsedTime: 43.3 seconds RetCode: 0 Status: OK PackageFile: TumourMethData_1.9.0.tar.gz PackageFileSize: 20.67 KiB