Package: TabulaMurisSenisData Version: 1.15.1 Command: /home/biocbuild/bbs-3.22-bioc/R/bin/R CMD check --install=check:TabulaMurisSenisData.install-out.txt --library=/home/biocbuild/bbs-3.22-bioc/R/site-library --timings TabulaMurisSenisData_1.15.1.tar.gz StartedAt: 2025-10-23 13:07:12 -0400 (Thu, 23 Oct 2025) EndedAt: 2025-10-23 13:12:48 -0400 (Thu, 23 Oct 2025) EllapsedTime: 336.0 seconds RetCode: 0 Status: OK CheckDir: TabulaMurisSenisData.Rcheck Warnings: 0