Package: TMExplorer Version: 1.17.0 Command: /home/biocbuild/bbs-3.21-bioc/R/bin/R CMD check --install=check:TMExplorer.install-out.txt --library=/home/biocbuild/bbs-3.21-bioc/R/site-library --timings TMExplorer_1.17.0.tar.gz StartedAt: 2025-02-13 12:53:33 -0500 (Thu, 13 Feb 2025) EndedAt: 2025-02-13 13:01:02 -0500 (Thu, 13 Feb 2025) EllapsedTime: 449.1 seconds RetCode: 0 Status: OK CheckDir: TMExplorer.Rcheck Warnings: 0