Package: TENxVisiumData Version: 1.15.0 Command: /home/biocbuild/bbs-3.21-bioc/R/bin/R CMD INSTALL TENxVisiumData StartedAt: 2025-02-18 10:58:58 -0500 (Tue, 18 Feb 2025) EndedAt: 2025-02-18 10:59:28 -0500 (Tue, 18 Feb 2025) EllapsedTime: 30.0 seconds RetCode: 0 Status: OK