Package: TENxBrainData Version: 1.27.0 Command: /home/biocbuild/bbs-3.21-bioc/R/bin/R CMD build --keep-empty-dirs --no-resave-data TENxBrainData StartedAt: 2025-01-30 11:42:38 -0500 (Thu, 30 Jan 2025) EndedAt: 2025-01-30 11:45:09 -0500 (Thu, 30 Jan 2025) EllapsedTime: 150.9 seconds RetCode: 0 Status: OK PackageFile: TENxBrainData_1.27.0.tar.gz PackageFileSize: 437.9 KiB