Package: TENxBUSData Version: 1.21.0 Command: /home/biocbuild/bbs-3.21-bioc/R/bin/R CMD check --install=check:TENxBUSData.install-out.txt --library=/home/biocbuild/bbs-3.21-bioc/R/site-library --timings TENxBUSData_1.21.0.tar.gz StartedAt: 2025-01-30 12:49:54 -0500 (Thu, 30 Jan 2025) EndedAt: 2025-01-30 12:51:42 -0500 (Thu, 30 Jan 2025) EllapsedTime: 108.0 seconds RetCode: 0 Status: OK CheckDir: TENxBUSData.Rcheck Warnings: 0