Package: TCGAcrcmiRNA Version: 1.31.0 Command: /home/biocbuild/bbs-3.23-bioc/R/bin/R CMD check --install=check:TCGAcrcmiRNA.install-out.txt --library=/home/biocbuild/bbs-3.23-bioc/R/site-library --timings TCGAcrcmiRNA_1.31.0.tar.gz StartedAt: 2025-11-11 13:07:30 -0500 (Tue, 11 Nov 2025) EndedAt: 2025-11-11 13:07:59 -0500 (Tue, 11 Nov 2025) EllapsedTime: 29.4 seconds RetCode: 0 Status: OK CheckDir: TCGAcrcmiRNA.Rcheck Warnings: 0