Package: TCGAWorkflowData Version: 1.35.0 Command: /home/biocbuild/bbs-3.23-bioc/R/bin/R CMD build --keep-empty-dirs --no-resave-data TCGAWorkflowData StartedAt: 2025-11-13 11:45:57 -0500 (Thu, 13 Nov 2025) EndedAt: 2025-11-13 11:48:29 -0500 (Thu, 13 Nov 2025) EllapsedTime: 151.5 seconds RetCode: 0 Status: OK PackageFile: TCGAWorkflowData_1.35.0.tar.gz PackageFileSize: 68.83 MiB