Package: TCGAMethylation450k Version: 1.47.0 Command: /home/biocbuild/bbs-3.23-bioc/R/bin/R CMD check --install=check:TCGAMethylation450k.install-out.txt --library=/home/biocbuild/bbs-3.23-bioc/R/site-library --timings TCGAMethylation450k_1.47.0.tar.gz StartedAt: 2025-11-13 13:13:34 -0500 (Thu, 13 Nov 2025) EndedAt: 2025-11-13 13:13:56 -0500 (Thu, 13 Nov 2025) EllapsedTime: 22.2 seconds RetCode: 0 Status: OK CheckDir: TCGAMethylation450k.Rcheck Warnings: 0