Package: TBX20BamSubset Version: 1.43.0 Command: /home/biocbuild/bbs-3.21-bioc/R/bin/R CMD check --install=check:TBX20BamSubset.install-out.txt --library=/home/biocbuild/bbs-3.21-bioc/R/site-library --timings TBX20BamSubset_1.43.0.tar.gz StartedAt: 2025-02-06 12:46:47 -0500 (Thu, 06 Feb 2025) EndedAt: 2025-02-06 12:47:38 -0500 (Thu, 06 Feb 2025) EllapsedTime: 50.3 seconds RetCode: 0 Status: OK CheckDir: TBX20BamSubset.Rcheck Warnings: 0