Package: SpikeIn Version: 1.49.0 Command: /home/biocbuild/bbs-3.21-bioc/R/bin/R CMD build --keep-empty-dirs --no-resave-data SpikeIn StartedAt: 2025-01-30 11:41:00 -0500 (Thu, 30 Jan 2025) EndedAt: 2025-01-30 11:41:12 -0500 (Thu, 30 Jan 2025) EllapsedTime: 11.7 seconds RetCode: 0 Status: OK PackageFile: SpikeIn_1.49.0.tar.gz PackageFileSize: 63.05 MiB