Package: SpatialDatasets Version: 1.7.0 Command: /home/biocbuild/bbs-3.22-bioc/R/bin/R CMD INSTALL SpatialDatasets StartedAt: 2025-04-24 10:58:18 -0400 (Thu, 24 Apr 2025) EndedAt: 2025-04-24 10:58:47 -0400 (Thu, 24 Apr 2025) EllapsedTime: 29.0 seconds RetCode: 0 Status: OK