Package: SpatialDatasets Version: 1.7.0 Command: /home/biocbuild/bbs-3.22-bioc/R/bin/R CMD build --keep-empty-dirs --no-resave-data SpatialDatasets StartedAt: 2025-04-24 11:41:16 -0400 (Thu, 24 Apr 2025) EndedAt: 2025-04-24 11:42:12 -0400 (Thu, 24 Apr 2025) EllapsedTime: 56.1 seconds RetCode: 0 Status: OK PackageFile: SpatialDatasets_1.7.0.tar.gz PackageFileSize: 223.5 KiB