Package: SpatialDatasets Version: 1.9.0 Command: /home/biocbuild/bbs-3.23-bioc/R/bin/R CMD INSTALL SpatialDatasets StartedAt: 2025-11-11 10:58:28 -0500 (Tue, 11 Nov 2025) EndedAt: 2025-11-11 10:58:57 -0500 (Tue, 11 Nov 2025) EllapsedTime: 29.8 seconds RetCode: 0 Status: OK