Package: SomaticCancerAlterations Version: 1.45.0 Command: /home/biocbuild/bbs-3.22-bioc/R/bin/R CMD INSTALL SomaticCancerAlterations StartedAt: 2025-07-17 10:57:49 -0400 (Thu, 17 Jul 2025) EndedAt: 2025-07-17 10:57:58 -0400 (Thu, 17 Jul 2025) EllapsedTime: 8.5 seconds RetCode: 0 Status: OK