Package: SimBenchData Version: 1.19.0 Command: /home/biocbuild/bbs-3.23-bioc/R/bin/R CMD INSTALL SimBenchData StartedAt: 2025-11-11 10:57:28 -0500 (Tue, 11 Nov 2025) EndedAt: 2025-11-11 10:57:41 -0500 (Tue, 11 Nov 2025) EllapsedTime: 13.1 seconds RetCode: 0 Status: OK