Package: SimBenchData Version: 1.19.0 Command: /home/biocbuild/bbs-3.23-bioc/R/bin/R CMD check --install=check:SimBenchData.install-out.txt --library=/home/biocbuild/bbs-3.23-bioc/R/site-library --timings SimBenchData_1.19.0.tar.gz StartedAt: 2025-11-11 13:00:55 -0500 (Tue, 11 Nov 2025) EndedAt: 2025-11-11 13:02:03 -0500 (Tue, 11 Nov 2025) EllapsedTime: 67.3 seconds RetCode: 0 Status: OK CheckDir: SimBenchData.Rcheck Warnings: 0