Package: SVM2CRMdata Version: 1.41.0 Command: /home/biocbuild/bbs-3.22-bioc/R/bin/R CMD check --install=check:SVM2CRMdata.install-out.txt --library=/home/biocbuild/bbs-3.22-bioc/R/site-library --timings SVM2CRMdata_1.41.0.tar.gz StartedAt: 2025-10-21 13:08:18 -0400 (Tue, 21 Oct 2025) EndedAt: 2025-10-21 13:09:32 -0400 (Tue, 21 Oct 2025) EllapsedTime: 74.0 seconds RetCode: 0 Status: WARNINGS CheckDir: SVM2CRMdata.Rcheck Warnings: 1