Package: SNAGEEdata Version: 1.43.0 Command: /home/biocbuild/bbs-3.21-bioc/R/bin/R CMD check --install=check:SNAGEEdata.install-out.txt --library=/home/biocbuild/bbs-3.21-bioc/R/site-library --timings SNAGEEdata_1.43.0.tar.gz StartedAt: 2025-01-30 12:44:11 -0500 (Thu, 30 Jan 2025) EndedAt: 2025-01-30 12:44:25 -0500 (Thu, 30 Jan 2025) EllapsedTime: 14.0 seconds RetCode: 0 Status: OK CheckDir: SNAGEEdata.Rcheck Warnings: 0