Package: SFEData Version: 1.11.0 Command: /home/biocbuild/bbs-3.22-bioc/R/bin/R CMD check --install=check:SFEData.install-out.txt --library=/home/biocbuild/bbs-3.22-bioc/R/site-library --timings SFEData_1.11.0.tar.gz StartedAt: 2025-10-23 13:02:55 -0400 (Thu, 23 Oct 2025) EndedAt: 2025-10-23 13:05:32 -0400 (Thu, 23 Oct 2025) EllapsedTime: 157.0 seconds RetCode: 0 Status: OK CheckDir: SFEData.Rcheck Warnings: 0