Package: RnBeads.hg19 Version: 1.39.0 Command: /home/biocbuild/bbs-3.21-bioc/R/bin/R CMD build --keep-empty-dirs --no-resave-data RnBeads.hg19 StartedAt: 2025-01-30 11:36:36 -0500 (Thu, 30 Jan 2025) EndedAt: 2025-01-30 11:36:43 -0500 (Thu, 30 Jan 2025) EllapsedTime: 7.3 seconds RetCode: 0 Status: OK PackageFile: RnBeads.hg19_1.39.0.tar.gz PackageFileSize: 100.1 MiB