Package: RforProteomics Version: 1.47.2 Command: /home/biocbuild/bbs-3.22-bioc/R/bin/R CMD check --install=check:RforProteomics.install-out.txt --library=/home/biocbuild/bbs-3.22-bioc/R/site-library --timings RforProteomics_1.47.2.tar.gz StartedAt: 2025-09-30 12:54:54 -0400 (Tue, 30 Sep 2025) EndedAt: 2025-09-30 13:05:17 -0400 (Tue, 30 Sep 2025) EllapsedTime: 623.2 seconds RetCode: 0 Status: WARNINGS CheckDir: RforProteomics.Rcheck Warnings: 1