Package: RforProteomics Version: 1.47.0 Command: /home/biocbuild/bbs-3.22-bioc/R/bin/R CMD build --keep-empty-dirs --no-resave-data RforProteomics StartedAt: 2025-07-24 11:38:12 -0400 (Thu, 24 Jul 2025) EndedAt: 2025-07-24 11:44:44 -0400 (Thu, 24 Jul 2025) EllapsedTime: 392.1 seconds RetCode: 0 Status: OK PackageFile: RforProteomics_1.47.0.tar.gz PackageFileSize: 9.161 MiB