Package: ReactomeGSA.data Version: 1.23.0 Command: /home/biocbuild/bbs-3.22-bioc/R/bin/R CMD build --keep-empty-dirs --no-resave-data ReactomeGSA.data StartedAt: 2025-07-17 11:36:50 -0400 (Thu, 17 Jul 2025) EndedAt: 2025-07-17 11:38:12 -0400 (Thu, 17 Jul 2025) EllapsedTime: 81.9 seconds RetCode: 0 Status: OK PackageFile: ReactomeGSA.data_1.23.0.tar.gz PackageFileSize: 23.08 MiB