Package: RUVnormalizeData Version: 1.29.0 Command: /home/biocbuild/bbs-3.22-bioc/R/bin/R CMD INSTALL RUVnormalizeData StartedAt: 2025-07-17 10:56:06 -0400 (Thu, 17 Jul 2025) EndedAt: 2025-07-17 10:56:08 -0400 (Thu, 17 Jul 2025) EllapsedTime: 2.5 seconds RetCode: 0 Status: OK