Package: RUVnormalizeData Version: 1.29.0 Maintainer: Laurent Jacob MaintainerEmail: laurent.jacob at univ-lyon1.fr git_url: https://git.bioconductor.org/packages/RUVnormalizeData git_branch: devel git_last_commit: 7fcad95 git_last_commit_date: 2025-04-15 09:55:48 -0400 (Tue, 15 Apr 2025)