Package: RTCGA.rnaseq Version: 20151101.37.0 Command: /home/biocbuild/bbs-3.21-bioc/R/bin/R CMD check --install=check:RTCGA.rnaseq.install-out.txt --library=/home/biocbuild/bbs-3.21-bioc/R/site-library --timings RTCGA.rnaseq_20151101.37.0.tar.gz StartedAt: 2025-01-30 12:39:57 -0500 (Thu, 30 Jan 2025) EndedAt: 2025-01-30 12:42:51 -0500 (Thu, 30 Jan 2025) EllapsedTime: 174.0 seconds RetCode: 0 Status: WARNINGS CheckDir: RTCGA.rnaseq.Rcheck Warnings: 1