Package: RTCGA.methylation Version: 1.37.0 Command: /home/biocbuild/bbs-3.22-bioc/R/bin/R CMD INSTALL RTCGA.methylation StartedAt: 2025-07-17 11:03:53 -0400 (Thu, 17 Jul 2025) EndedAt: 2025-07-17 11:06:23 -0400 (Thu, 17 Jul 2025) EllapsedTime: 149.8 seconds RetCode: 0 Status: OK