Package: RTCGA.mRNA Version: 1.37.0 Command: /home/biocbuild/bbs-3.22-bioc/R/bin/R CMD INSTALL RTCGA.mRNA StartedAt: 2025-07-15 11:04:01 -0400 (Tue, 15 Jul 2025) EndedAt: 2025-07-15 11:04:33 -0400 (Tue, 15 Jul 2025) EllapsedTime: 32.0 seconds RetCode: 0 Status: OK