Package: RTCGA.clinical Version: 20151101.37.0 Command: /home/biocbuild/bbs-3.21-bioc/R/bin/R CMD build --keep-empty-dirs --no-resave-data RTCGA.clinical StartedAt: 2025-02-13 11:37:03 -0500 (Thu, 13 Feb 2025) EndedAt: 2025-02-13 11:37:48 -0500 (Thu, 13 Feb 2025) EllapsedTime: 44.6 seconds RetCode: 0 Status: OK PackageFile: RTCGA.clinical_20151101.37.0.tar.gz PackageFileSize: 13.97 MiB