Package: RRBSdata Version: 1.31.0 Command: /home/biocbuild/bbs-3.23-bioc/R/bin/R CMD INSTALL RRBSdata StartedAt: 2025-11-13 11:01:00 -0500 (Thu, 13 Nov 2025) EndedAt: 2025-11-13 11:01:23 -0500 (Thu, 13 Nov 2025) EllapsedTime: 23.3 seconds RetCode: 0 Status: OK