Package: RRBSdata Version: 1.31.0 Command: /home/biocbuild/bbs-3.23-bioc/R/bin/R CMD build --keep-empty-dirs --no-resave-data RRBSdata StartedAt: 2025-11-13 11:39:37 -0500 (Thu, 13 Nov 2025) EndedAt: 2025-11-13 11:40:17 -0500 (Thu, 13 Nov 2025) EllapsedTime: 40.2 seconds RetCode: 0 Status: OK PackageFile: RRBSdata_1.31.0.tar.gz PackageFileSize: 73.93 MiB