Package: RNAseqData.HNRNPC.bam.chr14 Version: 0.45.0 Command: /home/biocbuild/bbs-3.21-bioc/R/bin/R CMD INSTALL RNAseqData.HNRNPC.bam.chr14 StartedAt: 2025-01-30 10:55:46 -0500 (Thu, 30 Jan 2025) EndedAt: 2025-01-30 10:55:52 -0500 (Thu, 30 Jan 2025) EllapsedTime: 5.8 seconds RetCode: 0 Status: OK